BEGIN:VCALENDAR
VERSION:2.0
PRODID:-//Merlin CCC - ECPv6.15.15//NONSGML v1.0//EN
CALSCALE:GREGORIAN
METHOD:PUBLISH
X-ORIGINAL-URL:https://merlinccc.org
X-WR-CALDESC:Events for Merlin CCC
REFRESH-INTERVAL;VALUE=DURATION:PT1H
X-Robots-Tag:noindex
X-PUBLISHED-TTL:PT1H
BEGIN:VTIMEZONE
TZID:America/Denver
BEGIN:DAYLIGHT
TZOFFSETFROM:-0700
TZOFFSETTO:-0600
TZNAME:MDT
DTSTART:20240310T090000
END:DAYLIGHT
BEGIN:STANDARD
TZOFFSETFROM:-0600
TZOFFSETTO:-0700
TZNAME:MST
DTSTART:20241103T080000
END:STANDARD
BEGIN:DAYLIGHT
TZOFFSETFROM:-0700
TZOFFSETTO:-0600
TZNAME:MDT
DTSTART:20250309T090000
END:DAYLIGHT
BEGIN:STANDARD
TZOFFSETFROM:-0600
TZOFFSETTO:-0700
TZNAME:MST
DTSTART:20251102T080000
END:STANDARD
BEGIN:DAYLIGHT
TZOFFSETFROM:-0700
TZOFFSETTO:-0600
TZNAME:MDT
DTSTART:20260308T090000
END:DAYLIGHT
BEGIN:STANDARD
TZOFFSETFROM:-0600
TZOFFSETTO:-0700
TZNAME:MST
DTSTART:20261101T080000
END:STANDARD
END:VTIMEZONE
BEGIN:VEVENT
DTSTART;TZID=America/Denver:20251001T173000
DTEND;TZID=America/Denver:20251001T200000
DTSTAMP:20260425T172528
CREATED:20250618T063014Z
LAST-MODIFIED:20250825T015455Z
UID:10000204-1759339800-1759348800@merlinccc.org
SUMMARY:Philosophy Symposium: On Growth Policy\, Wildlife & the Environment
DESCRIPTION:What We’ll Explore\nIn this mini-symposium facilitated by community philosopher Marisa Diaz-Waian we’ll talk with guest panelists and authors Christopher Preston & Robert Frodeman about growth policy and development\, wildlife\, and the environment. The symposium is in collaboration with the Lewis & Clark Library (as part of their NEA Big Reads grant programming)\, and will be structured in a way that allows ample time for community Q & A\, as well as an opportunity to mingle with the authors/scholars after the community conversation. \nWhen\nWednesday\, October 1st from 5:30pm-8pm \n5:30pm-7:15pm – Community Conversation and 7:15pm-8pm – Book signing & author mingle \nWhere\nLewis & Clark Library (in the Large Community Room) \nRSVP\nWhile an RSVP is not required\, it’s very helpful for us in terms of logistical planning (e.g.\, how many chairs to set out\, if important information about the program or venue needs to be communicated\, etc.).  With this in mind\, we’re including an RSVP link here if you are so inclined.  \nYes\, I want to come! \nCost\nFREE (Donations appreciated) \nOther\n*Books will be available for purchase from the authors.  Book signing & author mingle after the community conversation.  \n​ \n\n\n\n\nMake a Donation HereInvest in community by investing in philosophyOur philosophy activities are FREE to the community. While donations are never expected\, they are always appreciated and help to keep programs like these going. Donations help to cover activity leader honorariums\, implementation\, and resource archiving\, and more!  If you would like to make a tax-deductible contribution you can do so by clicking here.  For those facing more challenging financial circumstances\, we ask that you please try to “pay it forward” with acts of kindness for your neighbors and community. \n\n\n\n\n\n\n\n\nGuest Scholars\nChrsitopher Preston is a an award-winning author\, environmental philosopher\, public speaker\, and clean energy enthusiast based in Missoula\, Montana. A Professor of Philosophy at the University of Montana\, his areas of specialty include environmental philosophy\, climate ethics\, the ethics of emerging technologies\, rewilding\, and feminist philosophy. A native of England – who has studied and worked in Colorado\, Alaska\, Oregon\, Washington DC\, and South Carolina – his life in the US is oriented in many ways around the power of wild landscapes. In addition to being a professor\, Christopher has worked as a commercial fisherman\, a tool librarian\, and a backcountry Park Service Ranger. Christopher has published extensively on climate engineering\, synthetic biology\, and the new epoch of the Anthropocene\, and finds significance in both the new\, and the traditional\, wild. Christopher’s writings have appeared in The Atlantic\, Smithsonian\, Discover\, Orion\, Slate\, the Wall Street Journal\, The Conversation\, Salon\, The BBC\, Yale E360 and other outlets. His books and journal articles explore technology\, wildlife\, climate change\, justice\, and numerous other topics that bear on how we live. His most recent book\, Tenacious Beasts\, won the 2024 High Plains Book Award for non-fiction and was included in The New Yorker’s ‘Best Books of 2023.’ It probes the mystery of wildlife back from the brink and asks what they have to teach.  \n\nRobert Frodeman writes on environmental philosophy and public policy\, the philosophy of science and technology\, and the future of the university. A graduate of St Louis University (history and philosophy\, 1981)\, holder of a PhD in Philosophy (Penn State\, 1988) and a MS in Geology (climate science\, CU-Boulder\, 1996)\, Frodeman is the author or editor of 15 books and more than 150 articles\, and has been awarded more than 5 million dollars in grants. Founding Director of the Center for the Study of Interdisciplinarity at the University of North Texas (2008)\, he has also held academic positions at the University of Colorado and the Colorado School of Mines\, and ran the Socrates Untenured series at the journal Issues in Science and Technology from 2017 – 2021. In the fall of 2023 Frodeman was a Fulbright Fellow at the Institute of Advanced Studies at the University of Turku\, Finland\, where he conducted research on the future of the university. His most recent publications include his co-edited books A Watershed Moment: The American West in the Age of Limits (2024) and Field Philosophy: Different Places\, Different Cultures (forthcoming 2024).​ \n\n\n\n\nCommunity Sponsors & PartnersThank you to our community sponsors & partners Doubletree by Hilton Downtown Helena and the Lewis & Clark Library.\n\n\n\n\n\n\n\n\n\n\n\n\n\n\n\n\n\n\n\n\n\n\n\n\n\nNational Endowment for the Arts This symposium is in collaboraton with the Lewis & Clark Library by way of a Big Read grant award they receieved from the National Endowment for the Arts. The NEA Big Read is a program of the National Endowment for the Arts in partnership with Arts Midwest. To find out more about how National Endowment for the Arts grants impact individuals and communities\, visit www.arts.gov
URL:https://merlinccc.org/calendar-event/philosophy-symposium-growth-policy-wildlife-environment/
LOCATION:Lewis & Clark Library (Large Community Room)\, 120 S. Last Chance Gulch\, Helena\, Montana\, 59601\, United States
CATEGORIES:Philosophy Symposiums
ATTACH;FMTTYPE=image/png:https://merlinccc.org/wp-content/uploads/2025/08/October-Philosophy-Symposium-2025_Resized-scaled.png
ORGANIZER;CN="Marisa Diaz-Waian":MAILTO:marisa@merlinccc.org
END:VEVENT
BEGIN:VEVENT
DTSTART;TZID=America/Denver:20251003T190000
DTEND;TZID=America/Denver:20251003T210000
DTSTAMP:20260425T172528
CREATED:20250913T221659Z
LAST-MODIFIED:20250913T223817Z
UID:10000210-1759518000-1759525200@merlinccc.org
SUMMARY:BINGO Night at Lewis & Clark Taproom: A FUN-draiser for Community Philosophy
DESCRIPTION:How BINGO Fundraiser Night Works!Come early & claim your tableGrab your BINGO cards ($5 suggested donation)* Each card is good for 5 rounds! *Play some BINGO & Win Some Prizes – A caller calls out numbers\, you mark them on your card\, yell out ‘BINGO!’ when you’ve completed a card pattern (different patterns for different rounds)\, and win some great prizes (including Lewis & Clark Brewing beer)!Sip on some award-winning brews!Grab some grub from Vigilante Pizza!Enjoy great conversation & laughs with friends!Have fun & support a great cause!Friday\, October 3rd (7pm-9pm)~ 100% of BINGO card proceeds & other donations go toward Merlin ~Join us for a fun night of BINGO\, community & prizes!Marisa Diaz-Waian\, Director of Merlin\n\n\n\n\n\n\n\n\n\n\n\nAwesome BINGO Prizes\n\n\n\nBINGO has never been so fun! Not only do you get to revel in the joy of being able to shout out “BINGO!” (who doesn’t love that!)\, when you’ve filled your card…you also get the opportunity to win some awesome prizes from some of your favorite Helena businesses like the Holter Museum of Art\, Mae & June’s\, Raven’s Feather Productions\, Lewis & Clark Brewery and more!   \n\n\n\n\n\n\n\n\n\n\n\nWhy Support Merlin?\nImagine a world where thoughtful dialogue & community co-exist.  Where differing perspectives break bread.  Where understanding\, truth\, and wisdom is a goal.  Imagine you live in that world\, that city\, that neighborhood\, that community. \nBe part of that vision.  Invest in that community.  Support philosophy. \n100% of BINGO card proceeds & other donations will toward our Fall & Winter philosophy in the community programming and help to support critical\, creative thinking\, the exchange of ideas\, and the application of philosophy to everyday living.  Our programs are free to the community and are opportunities for people of all backgrounds and ages — from children to elders — to gather\, to learn from and with one another\, and to uniquely cultivate their personal and civic selves. \n\n\n\n\n\n\n\n\n\nHow to giveCome to Lewis & Clark Brewery on Friday\, October 3rd.Pick up your BINGO cards ($5 suggested donation)Make on-site donations!Can’t make it? Give on-line here!~ Merlin CCC is a 501(c)(3) non-profit. All donations are tax-deductible ~See you at L&C T-A-P-R-O-O-M (BINGO!) on October 3rd.Marisa Diaz-Waian\, Director of Merlin
URL:https://merlinccc.org/calendar-event/bingo-night-l-c-taproom-fundrasier-community-philosophy-merlinccc/
LOCATION:Lewis & Clark Taproom\, 1535 Dodge Avenue\, Helena\, Montana\, 59601\, United States
CATEGORIES:Fundraiser Events,Philosophy On Broadway
ATTACH;FMTTYPE=image/png:https://merlinccc.org/wp-content/uploads/2025/09/2025.10.13-BINGO-Merlin-CCC-POSTER-8.5-x-11-in.png
END:VEVENT
BEGIN:VEVENT
DTSTART;TZID=America/Denver:20251009T190000
DTEND;TZID=America/Denver:20251009T210000
DTSTAMP:20260425T172528
CREATED:20250205T215505Z
LAST-MODIFIED:20250205T215506Z
UID:10000189-1760036400-1760043600@merlinccc.org
SUMMARY:Philosophy Think & Drink
DESCRIPTION:Fun Gatherings that Stimulate the Mind!\nOur Philosophy Think & Drinks are casual\, community-oriented gatherings that are intellectually stimulating and fun.  You don’t need a background in philosophy to enjoy & participate.  An open mind & desire to engage in thoughtful dialogue (whether from a listening or contribution standpoint) is all that’s needed!  For those who love philosophy but prefer not to partake in the libations side of things\, don’t let that stop you from participating in the fun.  We emphasize the think over the drink! \nWhen\n2nd Thursday of every month from 7pm-9pm \nWhere\nReeder’s Alley — If the weather is conducive\, we meet outdoors in the pavilion.  If it’s cantankerous\, we meet indoors in the Conference Center. \nOther\nLight snacks provided.  BYOB. \n\nHow Do They Work?\nStep into the dojo!  Our Think & Drinks are monthly gatherings that consist of a “meeting of minds” over libations.  After nabbing goodies and seats\, getting acquainted & settling in…the eve begins. \n\nNo topics are off-limit; no questions are too broad\, narrow\, abstract\, or concrete.  Questions are posed by participants in a “round-robin” fashion\, clarified\, and then voted upon collectively.\nOnce our “avenue of philosophical pursuit” is in place\, we’re ready to dive into a fun night of facilitated philosophical discussion.\n\n 
URL:https://merlinccc.org/calendar-event/philosophy-think-drink-8/2025-10-09/
LOCATION:Reeder’s Alley Conference Center\, 101 Reeder's Alley\, Helena\, MT\, 59601\, United States
CATEGORIES:Think & Drinks
ATTACH;FMTTYPE=image/png:https://merlinccc.org/wp-content/uploads/2024/06/Philosophy-Think-Drink.png
ORGANIZER;CN="Marisa Diaz-Waian":MAILTO:marisa@merlinccc.org
END:VEVENT
BEGIN:VEVENT
DTSTART;TZID=America/Denver:20251026T120000
DTEND;TZID=America/Denver:20251026T140000
DTSTAMP:20260425T172528
CREATED:20250717T011716Z
LAST-MODIFIED:20251021T011135Z
UID:10000208-1761480000-1761487200@merlinccc.org
SUMMARY:Philosophy Shorts (For Youth): Storytelling & Animals
DESCRIPTION:What We’ll Explore\nA storytelling event for youth that features heartwarming tales starring animals such as coyote\, raven\, wolf\, and more. Weaving art\, philosophy\, history\, science\, and community together\, our storytellers will invite youth to imagine\, wonder\, question\, and play\, and learn more about indigenous perspectives on the enlightening & enchanting role of animals in our lives and collective history.  \nImagine\, Wonder\, Question & Play\n\nGiven Halloween’s proximity\, our storytelling focus\, and our love of play…we’re dressing up!  And invite you to join fun.  Get inspired by and come costumed up as your favorite critter! \n\n \nWhen & Where\nSunday\, October 26th from 12pm-2pm \nLewis & Clark Library (in the Large Community Room) \nRSVP\nWhile you are welcome to attend without RSVP’ing\, your RSVP helps us get an idea of how many people to anticipate so we can prepare accordingly.   \nYes\, I Want to Come! \nOther\nLight snacks provided \nCost\nFREE (Donations appreciated) \n\n\n\n\nMake a Donation HereInvest in community by Investing in philosophyAll of our philosophy activities are FREE to the community. While donations are never expected\, they are always appreciated and help to keep programs like these going. Donations help to cover activity leader honorariums\, implementation\, and resource archiving\, and more! If you would like to make a tax-deductible contribution you can do so by clicking here. For those facing more challenging financial circumstances\, we ask that you please try to “pay it forward” with acts of kindness for your neighbors and community. \n\n\n\n\n\nGuest Storytellers\n\n\n\n\n\n\n\n\n\n\n\nShane Doyle (Independent Educational & Cultural Consultant\, Native Nexus Consulting) is a Crow tribal member who grew up in Crow Agency\, and currently resides in Bozeman\, MT.  A singer of Northern Plains tribal style of music for 30 years\, Shane also holds a Doctorate in Curriculum and Instruction\, and completed a post-doctoral appointment in genetics with the University of Copenhagen\, Denmark\, in 2016.  With 20 years of teaching experience\, Shane is a full-time educational and cultural consultant\, designing American Indian curriculum for many organizations\, including Montana public schools\, the National Park Service\, and the Museum of the Rockies.  He currently serves on the Board of Directors for the Bozeman-based Extreme History Project\, Hopa Mountain\, and the Archaeological Conservancy\, as well as serving on the Montana Arts Council culture and aesthetics committee and the Governors Parks in Focus Committee.  Shane was a founding member of the Montana Wilderness Association’s Hold Our Ground Campaign in 2017\, and speaks throughout the region on the topics of northern Plains Tribal culture and the importance of public lands in Montana.  He was instrumental in the repatriation of the Anzick Clovis Child\, and worked as a consultant and actor for the History Channel’s “Lost Treasure of the Little Bighorn Battle.” \n\n\n\n\n\n\n\n\n\n\n\n\n\nLouise Ogemahgeshig Fischer (Anishinaabe Elder\, Storyteller\, Speaker\, Artist and Cultural Consultant) is a member of the Midewiwin Society and her clan is the Eagle. Her home away from home is in York\, MT where her home and studio are located. Louise lives there with her husband\, Chuck\, whom she has been married to for over 40 years\, alongside her big dog and bird. Louise graduated in fine arts at Kingman\, AZ college and has had shows in most all of the midwest states\, including the Museum of the Plains Indians in Browning\, MT. Devil’s Elbow State Campground currently features some of her art plaques\, as well as other locations. In addition to her art\, Louise has led a sweat lodge for the staff and PTSD Veterans for over 13 years at Fort Harrison and other VA facilities and worked with suicidal youth at Shodair Children’s Hospital for over 10 years. She has also been a speaker for Humanities Montana for over 20 years. Rich with meaning and depth\, Louise’s storytelling reveals a tapestry of Native American history\, traditions\, art\, music and more. \n\n\n\n\n\n\n\nCommunity Sponsors & PartnersThank you to our community sponsors & partners the Lewis & Clark Library\, Helena BID\, Doubletree by Hilton Downtown Helena Downtown and Helena Indian Alliance.\n\n\n\n\n\n\n\n\n\n\n\n\n\n\n\n\n\n\n\n\n\n\n\n\n\n\n\n\n\n\n\n\n\n\n\n\n\nNational Endowment for the ArtsThis storytelling event is in collaboraton with the Lewis & Clark Library by way of a Big Read grant award they receieved from the National Endowment for the Arts. The NEA Big Read is a program of the National Endowment for the Arts in partnership with Arts Midwest. To find out more about how National Endowment for the Arts grants impact individuals and communities\, visit www.arts.gov
URL:https://merlinccc.org/calendar-event/philosophy-storytelling-animals-history/
LOCATION:Lewis & Clark Library (Large Community Room)\, 120 S. Last Chance Gulch\, Helena\, Montana\, 59601\, United States
CATEGORIES:Philosophy Shorts
ATTACH;FMTTYPE=image/png:https://merlinccc.org/wp-content/uploads/2025/07/October-2025-Storytelling-Animals_BID-scaled.png
ORGANIZER;CN="Marisa Diaz-Waian":MAILTO:marisa@merlinccc.org
END:VEVENT
END:VCALENDAR